BEGIN:VCALENDAR
VERSION:2.0
PRODID:-//Blake / Lopez-Santini GT Racing - ECPv6.15.17.1//NONSGML v1.0//EN
CALSCALE:GREGORIAN
METHOD:PUBLISH
X-ORIGINAL-URL:http://www.blakegtracing.com
X-WR-CALDESC:Events for Blake / Lopez-Santini GT Racing
REFRESH-INTERVAL;VALUE=DURATION:PT1H
X-Robots-Tag:noindex
X-PUBLISHED-TTL:PT1H
BEGIN:VTIMEZONE
TZID:America/New_York
BEGIN:DAYLIGHT
TZOFFSETFROM:-0500
TZOFFSETTO:-0400
TZNAME:EDT
DTSTART:20170312T070000
END:DAYLIGHT
BEGIN:STANDARD
TZOFFSETFROM:-0400
TZOFFSETTO:-0500
TZNAME:EST
DTSTART:20171105T060000
END:STANDARD
BEGIN:DAYLIGHT
TZOFFSETFROM:-0500
TZOFFSETTO:-0400
TZNAME:EDT
DTSTART:20180311T070000
END:DAYLIGHT
BEGIN:STANDARD
TZOFFSETFROM:-0400
TZOFFSETTO:-0500
TZNAME:EST
DTSTART:20181104T060000
END:STANDARD
BEGIN:DAYLIGHT
TZOFFSETFROM:-0500
TZOFFSETTO:-0400
TZNAME:EDT
DTSTART:20190310T070000
END:DAYLIGHT
BEGIN:STANDARD
TZOFFSETFROM:-0400
TZOFFSETTO:-0500
TZNAME:EST
DTSTART:20191103T060000
END:STANDARD
BEGIN:DAYLIGHT
TZOFFSETFROM:-0500
TZOFFSETTO:-0400
TZNAME:EDT
DTSTART:20200308T070000
END:DAYLIGHT
BEGIN:STANDARD
TZOFFSETFROM:-0400
TZOFFSETTO:-0500
TZNAME:EST
DTSTART:20201101T060000
END:STANDARD
END:VTIMEZONE
BEGIN:VEVENT
DTSTART;TZID=America/New_York:20190301T155000
DTEND;TZID=America/New_York:20190301T162000
DTSTAMP:20260419T135425
CREATED:20190203T024703Z
LAST-MODIFIED:20190203T024703Z
UID:1973-1551455400-1551457200@www.blakegtracing.com
SUMMARY:International GT Qualifying 2
DESCRIPTION:Live Timing: Click Here (Active Desktop Only)\nhttp://www.blakegtracing.com/wp-content/uploads/2018/03/Enduro-Start-International-GT-Sebring.mp4
URL:http://www.blakegtracing.com/event/sebring-2019-international-gt-qualifying-2/
LOCATION:Sebring International Raceway\, 113 Midway Drive\, Sebring\, FL\, 33870\, United States
CATEGORIES:Qualifying
ATTACH;FMTTYPE=image/jpeg:http://www.blakegtracing.com/wp-content/uploads/2019/01/12.jpg
END:VEVENT
BEGIN:VEVENT
DTSTART;TZID=America/New_York:20190301T103000
DTEND;TZID=America/New_York:20190301T110000
DTSTAMP:20260419T135425
CREATED:20190203T023450Z
LAST-MODIFIED:20190203T023450Z
UID:1971-1551436200-1551438000@www.blakegtracing.com
SUMMARY:International GT Qualifying 1
DESCRIPTION:Live Timing: Click Here (Active Desktop Only) \nhttp://www.blakegtracing.com/wp-content/uploads/2018/03/Sprint-1-Start-International-GT-Sebring.mp4
URL:http://www.blakegtracing.com/event/sebring2019-international-gt-qualifying-1/
LOCATION:Sebring International Raceway\, 113 Midway Drive\, Sebring\, FL\, 33870\, United States
CATEGORIES:Qualifying
ATTACH;FMTTYPE=image/jpeg:http://www.blakegtracing.com/wp-content/uploads/2018/06/C.jpg
END:VEVENT
BEGIN:VEVENT
DTSTART;TZID=America/New_York:20181102T080000
DTEND;TZID=America/New_York:20181102T090000
DTSTAMP:20260419T135425
CREATED:20180624T031246Z
LAST-MODIFIED:20180624T031246Z
UID:1587-1541145600-1541149200@www.blakegtracing.com
SUMMARY:IGT Qualifying @ COTA
DESCRIPTION:Live Timing: Click Here (Active Desktop Only) \nInternational GT Championship Series Porsche GT3 Cup Trophy – Ferrari \nChallenge Car Maranello Cup
URL:http://www.blakegtracing.com/event/igt-qualifying-cota-2018/
LOCATION:Circuit of The Americas\, 9201 Circuit of the Americas Blvd\, Austin\, TX\, 78617\, United States
CATEGORIES:Qualifying
END:VEVENT
BEGIN:VEVENT
DTSTART;TZID=America/New_York:20180921T080000
DTEND;TZID=America/New_York:20180921T090000
DTSTAMP:20260419T135425
CREATED:20180624T015247Z
LAST-MODIFIED:20180624T015247Z
UID:1574-1537516800-1537520400@www.blakegtracing.com
SUMMARY:IGT Qualifying @ VIR
DESCRIPTION:Live Timing: Click Here (Active Desktop Only) \nInternational GT Championship Series \nPorsche GT3 Cup Trophy – Ferrari Challenge Car Maranello Cup
URL:http://www.blakegtracing.com/event/igt-qualifying-vir-2018/
LOCATION:Virginia International Raceway\, 1245 Pine Tree Rd\, Alton\, VA\, 24520\, United States
CATEGORIES:Qualifying
END:VEVENT
BEGIN:VEVENT
DTSTART;TZID=America/New_York:20180907T080000
DTEND;TZID=America/New_York:20180907T083000
DTSTAMP:20260419T135425
CREATED:20180624T030817Z
LAST-MODIFIED:20180624T030817Z
UID:1585-1536307200-1536309000@www.blakegtracing.com
SUMMARY:IGT Qualifying @ Watkins Glen
DESCRIPTION:Live Timing: Click Here (Active Desktop Only) \nInternational GT Championship Series Porsche GT3 Cup Trophy – Ferrari \nChallenge Car Maranello Cup
URL:http://www.blakegtracing.com/event/igt-qualifying-watkins-glen-2018/
LOCATION:Watkins Glen International\, 2790 County Route 16\, Watkins Glen\, NY\, 14891\, United States
CATEGORIES:Qualifying
END:VEVENT
END:VCALENDAR